BEGIN:VCALENDAR
VERSION:2.0
PRODID:-//Pennsylvania Coalition of Public Charter Schools - ECPv6.15.20//NONSGML v1.0//EN
CALSCALE:GREGORIAN
METHOD:PUBLISH
X-ORIGINAL-URL:https://pacharters.org
X-WR-CALDESC:Events for Pennsylvania Coalition of Public Charter Schools
REFRESH-INTERVAL;VALUE=DURATION:PT1H
X-Robots-Tag:noindex
X-PUBLISHED-TTL:PT1H
BEGIN:VTIMEZONE
TZID:America/Detroit
BEGIN:DAYLIGHT
TZOFFSETFROM:-0500
TZOFFSETTO:-0400
TZNAME:EDT
DTSTART:20240310T070000
END:DAYLIGHT
BEGIN:STANDARD
TZOFFSETFROM:-0400
TZOFFSETTO:-0500
TZNAME:EST
DTSTART:20241103T060000
END:STANDARD
BEGIN:DAYLIGHT
TZOFFSETFROM:-0500
TZOFFSETTO:-0400
TZNAME:EDT
DTSTART:20250309T070000
END:DAYLIGHT
BEGIN:STANDARD
TZOFFSETFROM:-0400
TZOFFSETTO:-0500
TZNAME:EST
DTSTART:20251102T060000
END:STANDARD
BEGIN:DAYLIGHT
TZOFFSETFROM:-0500
TZOFFSETTO:-0400
TZNAME:EDT
DTSTART:20260308T070000
END:DAYLIGHT
BEGIN:STANDARD
TZOFFSETFROM:-0400
TZOFFSETTO:-0500
TZNAME:EST
DTSTART:20261101T060000
END:STANDARD
END:VTIMEZONE
BEGIN:VEVENT
DTSTART;TZID=America/Detroit:20250903T100000
DTEND;TZID=America/Detroit:20250903T110000
DTSTAMP:20260424T114322
CREATED:20250731T211103Z
LAST-MODIFIED:20250731T211525Z
UID:10000050-1756893600-1756897200@pacharters.org
SUMMARY:PCPCS Partnership Meetings (via Zoom)
DESCRIPTION:PCPCS Partnership Meetings are virtual sessions designed to connect current and prospective partners with the Pennsylvania charter school community. These Zoom meetings highlight opportunities for collaboration\, provide updates on coalition activities\, and offer a space for partners to share services or solutions that support student success. The goal is to strengthen relationships between schools and partners who are committed to advancing public charter education in Pennsylvania.  
URL:https://pacharters.org/event/pcpcs-partnership-meetings-via-zoom/2025-09-03/
LOCATION:https://us02web.zoom.us/j/86179895551?pwd=h67uZBSudbr7EFBqRJoabioIuCaaVI.1
CATEGORIES:Events for Partners
ORGANIZER;CN="Pennsylvania Coalition of Public Charter Schools":MAILTO:info@pacharters.org
END:VEVENT
END:VCALENDAR